BEGIN:VCALENDAR
VERSION:2.0
PRODID:-//HBA of Greater Des Moines - ECPv6.15.20//NONSGML v1.0//EN
CALSCALE:GREGORIAN
METHOD:PUBLISH
X-WR-CALNAME:HBA of Greater Des Moines
X-ORIGINAL-URL:https://www.dsmhba.com
X-WR-CALDESC:Events for HBA of Greater Des Moines
REFRESH-INTERVAL;VALUE=DURATION:PT1H
X-Robots-Tag:noindex
X-PUBLISHED-TTL:PT1H
BEGIN:VTIMEZONE
TZID:America/Chicago
BEGIN:DAYLIGHT
TZOFFSETFROM:-0600
TZOFFSETTO:-0500
TZNAME:CDT
DTSTART:20250309T080000
END:DAYLIGHT
BEGIN:STANDARD
TZOFFSETFROM:-0500
TZOFFSETTO:-0600
TZNAME:CST
DTSTART:20251102T070000
END:STANDARD
BEGIN:DAYLIGHT
TZOFFSETFROM:-0600
TZOFFSETTO:-0500
TZNAME:CDT
DTSTART:20260308T080000
END:DAYLIGHT
BEGIN:STANDARD
TZOFFSETFROM:-0500
TZOFFSETTO:-0600
TZNAME:CST
DTSTART:20261101T070000
END:STANDARD
BEGIN:DAYLIGHT
TZOFFSETFROM:-0600
TZOFFSETTO:-0500
TZNAME:CDT
DTSTART:20270314T080000
END:DAYLIGHT
BEGIN:STANDARD
TZOFFSETFROM:-0500
TZOFFSETTO:-0600
TZNAME:CST
DTSTART:20271107T070000
END:STANDARD
END:VTIMEZONE
BEGIN:VEVENT
DTSTART;TZID=America/Chicago:20260421T130000
DTEND;TZID=America/Chicago:20260421T140000
DTSTAMP:20260421T051851
CREATED:20260109T050341Z
LAST-MODIFIED:20260421T050320Z
UID:50797-1776776400-1776780000@www.dsmhba.com
SUMMARY:PWB Exec
DESCRIPTION:
URL:https://www.dsmhba.com/event/pwb-exec-2026-04-21/
LOCATION:HBA Office\, 6751 Corporate Dr\, Johnston\, IA\, 50131\, United States
END:VEVENT
BEGIN:VEVENT
DTSTART;TZID=America/Chicago:20260422T113000
DTEND;TZID=America/Chicago:20260422T123000
DTSTAMP:20260421T051851
CREATED:20251205T050327Z
LAST-MODIFIED:20260421T050317Z
UID:50420-1776857400-1776861000@www.dsmhba.com
SUMMARY:Ambassador Committee
DESCRIPTION:The HBA Ambassador Committee is a volunteer committee that serves as the welcoming group to current\, new\, and potential HBA member businesses. You represent the DSM HBA in our community and at HBA sponsored events. The Ambassadors are a group of dedicated volunteers within the homebuilding and skilled trades industry throughout the Des Moines metro.
URL:https://www.dsmhba.com/event/ambassador-committee-2026-04-22/
LOCATION:HBA Offices\, United States
END:VEVENT
BEGIN:VEVENT
DTSTART;TZID=America/Chicago:20260427T163000
DTEND;TZID=America/Chicago:20260427T190000
DTSTAMP:20260421T051851
CREATED:20251107T050343Z
LAST-MODIFIED:20260421T050315Z
UID:50098-1777307400-1777316400@www.dsmhba.com
SUMMARY:HBA Golf League
DESCRIPTION:The Home Builders Association of Greater Des Moines Golf League plays on Mondays with a shotgun start at 4:30 pm\, at The Legacy Golf Club in Norwalk. The League runs for 17 weeks beginning on Monday\, April 20\, 2026\, and concludes on Monday\, August 31\, 2026.  \nThe cost for the League is $750 per person and consists of two person teams. You may sign up as a team\, or as an individual and the League will find a partner for you. \nALL REGISTRATIONS MUST BE IN PAIRS AFTER 3/30/26. DEADLINE TO REGISTER IS 4/10/26.  \nALL FEES MUST BE PAID IN ORDER TO PLAY.  \nThere will be a max of 30 two-person teams.  \nQuestions or to sign up as a sub\, please contact Katie at 515-270-8500 or katie@dsmhba.com. \nThank you to our Golf League Sponsors: Plumb Supply Co & Gilcrest/Jewett Lumber Co!
URL:https://www.dsmhba.com/event/hba-golf-league-2026-04-27/
LOCATION:Legacy Golf Club\, 400 Legacy Pkwy\, Norwalk\, IA\, 50211\, United States
END:VEVENT
BEGIN:VEVENT
DTSTART;TZID=America/Chicago:20260428T094500
DTEND;TZID=America/Chicago:20260428T110000
DTSTAMP:20260421T051851
CREATED:20260324T050427Z
LAST-MODIFIED:20260421T050319Z
UID:52113-1777369500-1777374000@www.dsmhba.com
SUMMARY:PWB Coffee Club
DESCRIPTION:All PWB members are invited\, no RSVP is required\, and there's no cost to attend. Simply join us for a tasty beverage and some great conversation if you wish. It'll be a great chance to get to know your fellow PWB members outside of a structured event setting\, and we intend for it to be as fun as it is enriching. \nThis month is speed networking! 
URL:https://www.dsmhba.com/event/pwb-coffee-club-2026-04-28/
LOCATION:St. Kilda Collective\, 333 5th St\, West Des Moines\, IA\, 50265\, United States
END:VEVENT
END:VCALENDAR